BEGIN:VCALENDAR
VERSION:2.0
PRODID:-//Sabre//Sabre VObject 3.5.3//EN
CALSCALE:GREGORIAN
BEGIN:VTIMEZONE
TZID:Europe/London
BEGIN:STANDARD
TZNAME:GMT
DTSTART:19701025T020000
RRULE:FREQ=YEARLY;BYMONTH=10;BYDAY=-1SU
TZOFFSETFROM:+0100
TZOFFSETTO:+0000
END:STANDARD
BEGIN:DAYLIGHT
TZNAME:BST
DTSTART:19700329T010000
RRULE:FREQ=YEARLY;BYMONTH=3;BYDAY=-1SU
TZOFFSETFROM:+0000
TZOFFSETTO:+0100
END:DAYLIGHT
END:VTIMEZONE
BEGIN:VEVENT
UID:event_143648@philomusica.cymru
DTSTART;TZID=Europe/London:20221203T200000
DTEND;TZID=Europe/London:20221203T220000
SUMMARY:Philomusica Concert
DESCRIPTION:Tickets : £2.00 - £12.00\n\nFor full event details\, visit: h
 ttps://www.philomusica.cymru/dbpage.php?pg=view&dbase=events&id=143648
LOCATION:The Great Hall\, The Arts Centre\, Penglais Campus\, Aberystwyth U
 niversity\, Aberystwyth\, SY23 3DE
URL:https://www.philomusica.cymru/dbpage.php?pg=view&dbase=events&id=143648
END:VEVENT
END:VCALENDAR
